BEGIN:VCALENDAR
VERSION:2.0
PRODID:-//Church of the Living God - ECPv6.15.20//NONSGML v1.0//EN
CALSCALE:GREGORIAN
METHOD:PUBLISH
X-WR-CALNAME:Church of the Living God
X-ORIGINAL-URL:https://clg.org.au
X-WR-CALDESC:Events for Church of the Living God
REFRESH-INTERVAL;VALUE=DURATION:PT1H
X-Robots-Tag:noindex
X-PUBLISHED-TTL:PT1H
BEGIN:VTIMEZONE
TZID:Australia/Sydney
BEGIN:STANDARD
TZOFFSETFROM:+1100
TZOFFSETTO:+1000
TZNAME:AEST
DTSTART:20250405T160000
END:STANDARD
BEGIN:DAYLIGHT
TZOFFSETFROM:+1000
TZOFFSETTO:+1100
TZNAME:AEDT
DTSTART:20251004T160000
END:DAYLIGHT
BEGIN:STANDARD
TZOFFSETFROM:+1100
TZOFFSETTO:+1000
TZNAME:AEST
DTSTART:20260404T160000
END:STANDARD
BEGIN:DAYLIGHT
TZOFFSETFROM:+1000
TZOFFSETTO:+1100
TZNAME:AEDT
DTSTART:20261003T160000
END:DAYLIGHT
BEGIN:STANDARD
TZOFFSETFROM:+1100
TZOFFSETTO:+1000
TZNAME:AEST
DTSTART:20270403T160000
END:STANDARD
BEGIN:DAYLIGHT
TZOFFSETFROM:+1000
TZOFFSETTO:+1100
TZNAME:AEDT
DTSTART:20271002T160000
END:DAYLIGHT
END:VTIMEZONE
BEGIN:VEVENT
DTSTART;TZID=Australia/Sydney:20260131T080000
DTEND;TZID=Australia/Sydney:20260131T160000
DTSTAMP:20260423T093518
CREATED:20260110T070826Z
LAST-MODIFIED:20260110T071718Z
UID:10002953-1769846400-1769875200@clg.org.au
SUMMARY:Men’s Day Out (Boating + Fishing)
DESCRIPTION:The Men of the Living God are excited to host a full day of outdoor fellowship\, connection\, and fun in the beautiful surroundings of Brooklyn on Saturday\, 31 January 2026\, from 8:00 am to 4:00 pm. \nJoin us for a relaxed and enjoyable day featuring: \n\nBBQ\nBoating\nFishing\nGreat conversation and brotherhood\n\nThis day is all about building relationships\, strengthening friendships\, and enjoying quality time together in a casual\, outdoor setting. We look forward to a wonderful time of connection\, fellowship\, and fun! \nFor more details\, please contact Bro. Rey Manaloto.
URL:https://clg.org.au/event/mens-fellowship/
LOCATION:9 Dangar Rd\, Brooklyn NSW 2083\, 9 Dangar Rd\, Brooklyn\, NSW\, 2083
ATTACH;FMTTYPE=image/jpeg:https://clg.org.au/wp-content/uploads/2024/10/44906d90-2cb4-4a57-95d6-df189756fb10-e1729945382708.jpeg
END:VEVENT
END:VCALENDAR