BEGIN:VCALENDAR
VERSION:2.0
PRODID:-//Church of the Living God - ECPv6.15.20//NONSGML v1.0//EN
CALSCALE:GREGORIAN
METHOD:PUBLISH
X-ORIGINAL-URL:https://clg.org.au
X-WR-CALDESC:Events for Church of the Living God
REFRESH-INTERVAL;VALUE=DURATION:PT1H
X-Robots-Tag:noindex
X-PUBLISHED-TTL:PT1H
BEGIN:VTIMEZONE
TZID:Australia/Sydney
BEGIN:STANDARD
TZOFFSETFROM:+1100
TZOFFSETTO:+1000
TZNAME:AEST
DTSTART:20260404T160000
END:STANDARD
BEGIN:DAYLIGHT
TZOFFSETFROM:+1000
TZOFFSETTO:+1100
TZNAME:AEDT
DTSTART:20261003T160000
END:DAYLIGHT
BEGIN:STANDARD
TZOFFSETFROM:+1100
TZOFFSETTO:+1000
TZNAME:AEST
DTSTART:20270403T160000
END:STANDARD
BEGIN:DAYLIGHT
TZOFFSETFROM:+1000
TZOFFSETTO:+1100
TZNAME:AEDT
DTSTART:20271002T160000
END:DAYLIGHT
BEGIN:STANDARD
TZOFFSETFROM:+1100
TZOFFSETTO:+1000
TZNAME:AEST
DTSTART:20280401T160000
END:STANDARD
BEGIN:DAYLIGHT
TZOFFSETFROM:+1000
TZOFFSETTO:+1100
TZNAME:AEDT
DTSTART:20280930T160000
END:DAYLIGHT
BEGIN:STANDARD
TZOFFSETFROM:+1100
TZOFFSETTO:+1000
TZNAME:AEST
DTSTART:20290331T160000
END:STANDARD
BEGIN:DAYLIGHT
TZOFFSETFROM:+1000
TZOFFSETTO:+1100
TZNAME:AEDT
DTSTART:20291006T160000
END:DAYLIGHT
BEGIN:STANDARD
TZOFFSETFROM:+1100
TZOFFSETTO:+1000
TZNAME:AEST
DTSTART:20300406T160000
END:STANDARD
BEGIN:DAYLIGHT
TZOFFSETFROM:+1000
TZOFFSETTO:+1100
TZNAME:AEDT
DTSTART:20301005T160000
END:DAYLIGHT
END:VTIMEZONE
BEGIN:VEVENT
DTSTART;TZID=Australia/Sydney:20270619T100000
DTEND;TZID=Australia/Sydney:20270619T120000
DTSTAMP:20260423T054552
CREATED:20251112T061214Z
LAST-MODIFIED:20251112T061546Z
UID:10001497-1813399200-1813406400@clg.org.au
SUMMARY:Street Evangelism
DESCRIPTION:Join us on our monthly Street Evangelism at Blacktown Main Street. Help us give away gospel tracts to passersby\, pray for people and give away groceries and used clothing at Blacktown Main Street.\n\nMany hands make the load lighter. Romans 10:15 says that the feet of those who bring good news are beautiful.
URL:https://clg.org.au/event/street-evangelism-2-3-2-2/2027-06-19/
LOCATION:Blacktown Main Street\, Main St\, Blacktown\, 2148\, Australia
ATTACH;FMTTYPE=image/jpeg:https://clg.org.au/wp-content/uploads/2024/08/E4F33A88-41E4-4235-B3D6-F4D037F381FB_1_105_c-1-e1725191564135.jpeg
END:VEVENT
BEGIN:VEVENT
DTSTART;TZID=Australia/Sydney:20270717T100000
DTEND;TZID=Australia/Sydney:20270717T120000
DTSTAMP:20260423T054552
CREATED:20251112T061214Z
LAST-MODIFIED:20251112T061546Z
UID:10001498-1815818400-1815825600@clg.org.au
SUMMARY:Street Evangelism
DESCRIPTION:Join us on our monthly Street Evangelism at Blacktown Main Street. Help us give away gospel tracts to passersby\, pray for people and give away groceries and used clothing at Blacktown Main Street.\n\nMany hands make the load lighter. Romans 10:15 says that the feet of those who bring good news are beautiful.
URL:https://clg.org.au/event/street-evangelism-2-3-2-2/2027-07-17/
LOCATION:Blacktown Main Street\, Main St\, Blacktown\, 2148\, Australia
ATTACH;FMTTYPE=image/jpeg:https://clg.org.au/wp-content/uploads/2024/08/E4F33A88-41E4-4235-B3D6-F4D037F381FB_1_105_c-1-e1725191564135.jpeg
END:VEVENT
BEGIN:VEVENT
DTSTART;TZID=Australia/Sydney:20270821T100000
DTEND;TZID=Australia/Sydney:20270821T120000
DTSTAMP:20260423T054552
CREATED:20251112T061214Z
LAST-MODIFIED:20251112T061546Z
UID:10001499-1818842400-1818849600@clg.org.au
SUMMARY:Street Evangelism
DESCRIPTION:Join us on our monthly Street Evangelism at Blacktown Main Street. Help us give away gospel tracts to passersby\, pray for people and give away groceries and used clothing at Blacktown Main Street.\n\nMany hands make the load lighter. Romans 10:15 says that the feet of those who bring good news are beautiful.
URL:https://clg.org.au/event/street-evangelism-2-3-2-2/2027-08-21/
LOCATION:Blacktown Main Street\, Main St\, Blacktown\, 2148\, Australia
ATTACH;FMTTYPE=image/jpeg:https://clg.org.au/wp-content/uploads/2024/08/E4F33A88-41E4-4235-B3D6-F4D037F381FB_1_105_c-1-e1725191564135.jpeg
END:VEVENT
BEGIN:VEVENT
DTSTART;TZID=Australia/Sydney:20270918T100000
DTEND;TZID=Australia/Sydney:20270918T120000
DTSTAMP:20260423T054552
CREATED:20251112T061214Z
LAST-MODIFIED:20251112T061546Z
UID:10001500-1821261600-1821268800@clg.org.au
SUMMARY:Street Evangelism
DESCRIPTION:Join us on our monthly Street Evangelism at Blacktown Main Street. Help us give away gospel tracts to passersby\, pray for people and give away groceries and used clothing at Blacktown Main Street.\n\nMany hands make the load lighter. Romans 10:15 says that the feet of those who bring good news are beautiful.
URL:https://clg.org.au/event/street-evangelism-2-3-2-2/2027-09-18/
LOCATION:Blacktown Main Street\, Main St\, Blacktown\, 2148\, Australia
ATTACH;FMTTYPE=image/jpeg:https://clg.org.au/wp-content/uploads/2024/08/E4F33A88-41E4-4235-B3D6-F4D037F381FB_1_105_c-1-e1725191564135.jpeg
END:VEVENT
BEGIN:VEVENT
DTSTART;TZID=Australia/Sydney:20271016T100000
DTEND;TZID=Australia/Sydney:20271016T120000
DTSTAMP:20260423T054552
CREATED:20251112T061214Z
LAST-MODIFIED:20251112T061546Z
UID:10001501-1823680800-1823688000@clg.org.au
SUMMARY:Street Evangelism
DESCRIPTION:Join us on our monthly Street Evangelism at Blacktown Main Street. Help us give away gospel tracts to passersby\, pray for people and give away groceries and used clothing at Blacktown Main Street.\n\nMany hands make the load lighter. Romans 10:15 says that the feet of those who bring good news are beautiful.
URL:https://clg.org.au/event/street-evangelism-2-3-2-2/2027-10-16/
LOCATION:Blacktown Main Street\, Main St\, Blacktown\, 2148\, Australia
ATTACH;FMTTYPE=image/jpeg:https://clg.org.au/wp-content/uploads/2024/08/E4F33A88-41E4-4235-B3D6-F4D037F381FB_1_105_c-1-e1725191564135.jpeg
END:VEVENT
BEGIN:VEVENT
DTSTART;TZID=Australia/Sydney:20271120T100000
DTEND;TZID=Australia/Sydney:20271120T120000
DTSTAMP:20260423T054552
CREATED:20251112T061214Z
LAST-MODIFIED:20251112T061546Z
UID:10001502-1826704800-1826712000@clg.org.au
SUMMARY:Street Evangelism
DESCRIPTION:Join us on our monthly Street Evangelism at Blacktown Main Street. Help us give away gospel tracts to passersby\, pray for people and give away groceries and used clothing at Blacktown Main Street.\n\nMany hands make the load lighter. Romans 10:15 says that the feet of those who bring good news are beautiful.
URL:https://clg.org.au/event/street-evangelism-2-3-2-2/2027-11-20/
LOCATION:Blacktown Main Street\, Main St\, Blacktown\, 2148\, Australia
ATTACH;FMTTYPE=image/jpeg:https://clg.org.au/wp-content/uploads/2024/08/E4F33A88-41E4-4235-B3D6-F4D037F381FB_1_105_c-1-e1725191564135.jpeg
END:VEVENT
BEGIN:VEVENT
DTSTART;TZID=Australia/Sydney:20271218T100000
DTEND;TZID=Australia/Sydney:20271218T120000
DTSTAMP:20260423T054552
CREATED:20251112T061214Z
LAST-MODIFIED:20251112T061546Z
UID:10001503-1829124000-1829131200@clg.org.au
SUMMARY:Street Evangelism
DESCRIPTION:Join us on our monthly Street Evangelism at Blacktown Main Street. Help us give away gospel tracts to passersby\, pray for people and give away groceries and used clothing at Blacktown Main Street.\n\nMany hands make the load lighter. Romans 10:15 says that the feet of those who bring good news are beautiful.
URL:https://clg.org.au/event/street-evangelism-2-3-2-2/2027-12-18/
LOCATION:Blacktown Main Street\, Main St\, Blacktown\, 2148\, Australia
ATTACH;FMTTYPE=image/jpeg:https://clg.org.au/wp-content/uploads/2024/08/E4F33A88-41E4-4235-B3D6-F4D037F381FB_1_105_c-1-e1725191564135.jpeg
END:VEVENT
BEGIN:VEVENT
DTSTART;TZID=Australia/Sydney:20280115T100000
DTEND;TZID=Australia/Sydney:20280115T120000
DTSTAMP:20260423T054552
CREATED:20251112T061214Z
LAST-MODIFIED:20251112T061546Z
UID:10001504-1831543200-1831550400@clg.org.au
SUMMARY:Street Evangelism
DESCRIPTION:Join us on our monthly Street Evangelism at Blacktown Main Street. Help us give away gospel tracts to passersby\, pray for people and give away groceries and used clothing at Blacktown Main Street.\n\nMany hands make the load lighter. Romans 10:15 says that the feet of those who bring good news are beautiful.
URL:https://clg.org.au/event/street-evangelism-2-3-2-2/2028-01-15/
LOCATION:Blacktown Main Street\, Main St\, Blacktown\, 2148\, Australia
ATTACH;FMTTYPE=image/jpeg:https://clg.org.au/wp-content/uploads/2024/08/E4F33A88-41E4-4235-B3D6-F4D037F381FB_1_105_c-1-e1725191564135.jpeg
END:VEVENT
BEGIN:VEVENT
DTSTART;TZID=Australia/Sydney:20280219T100000
DTEND;TZID=Australia/Sydney:20280219T120000
DTSTAMP:20260423T054552
CREATED:20251112T061214Z
LAST-MODIFIED:20251112T061546Z
UID:10001505-1834567200-1834574400@clg.org.au
SUMMARY:Street Evangelism
DESCRIPTION:Join us on our monthly Street Evangelism at Blacktown Main Street. Help us give away gospel tracts to passersby\, pray for people and give away groceries and used clothing at Blacktown Main Street.\n\nMany hands make the load lighter. Romans 10:15 says that the feet of those who bring good news are beautiful.
URL:https://clg.org.au/event/street-evangelism-2-3-2-2/2028-02-19/
LOCATION:Blacktown Main Street\, Main St\, Blacktown\, 2148\, Australia
ATTACH;FMTTYPE=image/jpeg:https://clg.org.au/wp-content/uploads/2024/08/E4F33A88-41E4-4235-B3D6-F4D037F381FB_1_105_c-1-e1725191564135.jpeg
END:VEVENT
BEGIN:VEVENT
DTSTART;TZID=Australia/Sydney:20280318T100000
DTEND;TZID=Australia/Sydney:20280318T120000
DTSTAMP:20260423T054552
CREATED:20251112T061214Z
LAST-MODIFIED:20251112T061546Z
UID:10001506-1836986400-1836993600@clg.org.au
SUMMARY:Street Evangelism
DESCRIPTION:Join us on our monthly Street Evangelism at Blacktown Main Street. Help us give away gospel tracts to passersby\, pray for people and give away groceries and used clothing at Blacktown Main Street.\n\nMany hands make the load lighter. Romans 10:15 says that the feet of those who bring good news are beautiful.
URL:https://clg.org.au/event/street-evangelism-2-3-2-2/2028-03-18/
LOCATION:Blacktown Main Street\, Main St\, Blacktown\, 2148\, Australia
ATTACH;FMTTYPE=image/jpeg:https://clg.org.au/wp-content/uploads/2024/08/E4F33A88-41E4-4235-B3D6-F4D037F381FB_1_105_c-1-e1725191564135.jpeg
END:VEVENT
BEGIN:VEVENT
DTSTART;TZID=Australia/Sydney:20280415T100000
DTEND;TZID=Australia/Sydney:20280415T120000
DTSTAMP:20260423T054552
CREATED:20251112T061214Z
LAST-MODIFIED:20251112T061546Z
UID:10001507-1839405600-1839412800@clg.org.au
SUMMARY:Street Evangelism
DESCRIPTION:Join us on our monthly Street Evangelism at Blacktown Main Street. Help us give away gospel tracts to passersby\, pray for people and give away groceries and used clothing at Blacktown Main Street.\n\nMany hands make the load lighter. Romans 10:15 says that the feet of those who bring good news are beautiful.
URL:https://clg.org.au/event/street-evangelism-2-3-2-2/2028-04-15/
LOCATION:Blacktown Main Street\, Main St\, Blacktown\, 2148\, Australia
ATTACH;FMTTYPE=image/jpeg:https://clg.org.au/wp-content/uploads/2024/08/E4F33A88-41E4-4235-B3D6-F4D037F381FB_1_105_c-1-e1725191564135.jpeg
END:VEVENT
BEGIN:VEVENT
DTSTART;TZID=Australia/Sydney:20280520T100000
DTEND;TZID=Australia/Sydney:20280520T120000
DTSTAMP:20260423T054552
CREATED:20251112T061214Z
LAST-MODIFIED:20251112T061546Z
UID:10001508-1842429600-1842436800@clg.org.au
SUMMARY:Street Evangelism
DESCRIPTION:Join us on our monthly Street Evangelism at Blacktown Main Street. Help us give away gospel tracts to passersby\, pray for people and give away groceries and used clothing at Blacktown Main Street.\n\nMany hands make the load lighter. Romans 10:15 says that the feet of those who bring good news are beautiful.
URL:https://clg.org.au/event/street-evangelism-2-3-2-2/2028-05-20/
LOCATION:Blacktown Main Street\, Main St\, Blacktown\, 2148\, Australia
ATTACH;FMTTYPE=image/jpeg:https://clg.org.au/wp-content/uploads/2024/08/E4F33A88-41E4-4235-B3D6-F4D037F381FB_1_105_c-1-e1725191564135.jpeg
END:VEVENT
BEGIN:VEVENT
DTSTART;TZID=Australia/Sydney:20280617T100000
DTEND;TZID=Australia/Sydney:20280617T120000
DTSTAMP:20260423T054552
CREATED:20251112T061214Z
LAST-MODIFIED:20251112T061546Z
UID:10001509-1844848800-1844856000@clg.org.au
SUMMARY:Street Evangelism
DESCRIPTION:Join us on our monthly Street Evangelism at Blacktown Main Street. Help us give away gospel tracts to passersby\, pray for people and give away groceries and used clothing at Blacktown Main Street.\n\nMany hands make the load lighter. Romans 10:15 says that the feet of those who bring good news are beautiful.
URL:https://clg.org.au/event/street-evangelism-2-3-2-2/2028-06-17/
LOCATION:Blacktown Main Street\, Main St\, Blacktown\, 2148\, Australia
ATTACH;FMTTYPE=image/jpeg:https://clg.org.au/wp-content/uploads/2024/08/E4F33A88-41E4-4235-B3D6-F4D037F381FB_1_105_c-1-e1725191564135.jpeg
END:VEVENT
BEGIN:VEVENT
DTSTART;TZID=Australia/Sydney:20280715T100000
DTEND;TZID=Australia/Sydney:20280715T120000
DTSTAMP:20260423T054552
CREATED:20251112T061214Z
LAST-MODIFIED:20251112T061546Z
UID:10001510-1847268000-1847275200@clg.org.au
SUMMARY:Street Evangelism
DESCRIPTION:Join us on our monthly Street Evangelism at Blacktown Main Street. Help us give away gospel tracts to passersby\, pray for people and give away groceries and used clothing at Blacktown Main Street.\n\nMany hands make the load lighter. Romans 10:15 says that the feet of those who bring good news are beautiful.
URL:https://clg.org.au/event/street-evangelism-2-3-2-2/2028-07-15/
LOCATION:Blacktown Main Street\, Main St\, Blacktown\, 2148\, Australia
ATTACH;FMTTYPE=image/jpeg:https://clg.org.au/wp-content/uploads/2024/08/E4F33A88-41E4-4235-B3D6-F4D037F381FB_1_105_c-1-e1725191564135.jpeg
END:VEVENT
BEGIN:VEVENT
DTSTART;TZID=Australia/Sydney:20280819T100000
DTEND;TZID=Australia/Sydney:20280819T120000
DTSTAMP:20260423T054552
CREATED:20251112T061214Z
LAST-MODIFIED:20251112T061546Z
UID:10001511-1850292000-1850299200@clg.org.au
SUMMARY:Street Evangelism
DESCRIPTION:Join us on our monthly Street Evangelism at Blacktown Main Street. Help us give away gospel tracts to passersby\, pray for people and give away groceries and used clothing at Blacktown Main Street.\n\nMany hands make the load lighter. Romans 10:15 says that the feet of those who bring good news are beautiful.
URL:https://clg.org.au/event/street-evangelism-2-3-2-2/2028-08-19/
LOCATION:Blacktown Main Street\, Main St\, Blacktown\, 2148\, Australia
ATTACH;FMTTYPE=image/jpeg:https://clg.org.au/wp-content/uploads/2024/08/E4F33A88-41E4-4235-B3D6-F4D037F381FB_1_105_c-1-e1725191564135.jpeg
END:VEVENT
BEGIN:VEVENT
DTSTART;TZID=Australia/Sydney:20280916T100000
DTEND;TZID=Australia/Sydney:20280916T120000
DTSTAMP:20260423T054552
CREATED:20251112T061214Z
LAST-MODIFIED:20251112T061546Z
UID:10001512-1852711200-1852718400@clg.org.au
SUMMARY:Street Evangelism
DESCRIPTION:Join us on our monthly Street Evangelism at Blacktown Main Street. Help us give away gospel tracts to passersby\, pray for people and give away groceries and used clothing at Blacktown Main Street.\n\nMany hands make the load lighter. Romans 10:15 says that the feet of those who bring good news are beautiful.
URL:https://clg.org.au/event/street-evangelism-2-3-2-2/2028-09-16/
LOCATION:Blacktown Main Street\, Main St\, Blacktown\, 2148\, Australia
ATTACH;FMTTYPE=image/jpeg:https://clg.org.au/wp-content/uploads/2024/08/E4F33A88-41E4-4235-B3D6-F4D037F381FB_1_105_c-1-e1725191564135.jpeg
END:VEVENT
BEGIN:VEVENT
DTSTART;TZID=Australia/Sydney:20281021T100000
DTEND;TZID=Australia/Sydney:20281021T120000
DTSTAMP:20260423T054552
CREATED:20251112T061214Z
LAST-MODIFIED:20251112T061546Z
UID:10001513-1855735200-1855742400@clg.org.au
SUMMARY:Street Evangelism
DESCRIPTION:Join us on our monthly Street Evangelism at Blacktown Main Street. Help us give away gospel tracts to passersby\, pray for people and give away groceries and used clothing at Blacktown Main Street.\n\nMany hands make the load lighter. Romans 10:15 says that the feet of those who bring good news are beautiful.
URL:https://clg.org.au/event/street-evangelism-2-3-2-2/2028-10-21/
LOCATION:Blacktown Main Street\, Main St\, Blacktown\, 2148\, Australia
ATTACH;FMTTYPE=image/jpeg:https://clg.org.au/wp-content/uploads/2024/08/E4F33A88-41E4-4235-B3D6-F4D037F381FB_1_105_c-1-e1725191564135.jpeg
END:VEVENT
BEGIN:VEVENT
DTSTART;TZID=Australia/Sydney:20281118T100000
DTEND;TZID=Australia/Sydney:20281118T120000
DTSTAMP:20260423T054552
CREATED:20251112T061214Z
LAST-MODIFIED:20251112T061546Z
UID:10001514-1858154400-1858161600@clg.org.au
SUMMARY:Street Evangelism
DESCRIPTION:Join us on our monthly Street Evangelism at Blacktown Main Street. Help us give away gospel tracts to passersby\, pray for people and give away groceries and used clothing at Blacktown Main Street.\n\nMany hands make the load lighter. Romans 10:15 says that the feet of those who bring good news are beautiful.
URL:https://clg.org.au/event/street-evangelism-2-3-2-2/2028-11-18/
LOCATION:Blacktown Main Street\, Main St\, Blacktown\, 2148\, Australia
ATTACH;FMTTYPE=image/jpeg:https://clg.org.au/wp-content/uploads/2024/08/E4F33A88-41E4-4235-B3D6-F4D037F381FB_1_105_c-1-e1725191564135.jpeg
END:VEVENT
BEGIN:VEVENT
DTSTART;TZID=Australia/Sydney:20281216T100000
DTEND;TZID=Australia/Sydney:20281216T120000
DTSTAMP:20260423T054552
CREATED:20251112T061214Z
LAST-MODIFIED:20251112T061546Z
UID:10001515-1860573600-1860580800@clg.org.au
SUMMARY:Street Evangelism
DESCRIPTION:Join us on our monthly Street Evangelism at Blacktown Main Street. Help us give away gospel tracts to passersby\, pray for people and give away groceries and used clothing at Blacktown Main Street.\n\nMany hands make the load lighter. Romans 10:15 says that the feet of those who bring good news are beautiful.
URL:https://clg.org.au/event/street-evangelism-2-3-2-2/2028-12-16/
LOCATION:Blacktown Main Street\, Main St\, Blacktown\, 2148\, Australia
ATTACH;FMTTYPE=image/jpeg:https://clg.org.au/wp-content/uploads/2024/08/E4F33A88-41E4-4235-B3D6-F4D037F381FB_1_105_c-1-e1725191564135.jpeg
END:VEVENT
BEGIN:VEVENT
DTSTART;TZID=Australia/Sydney:20290120T100000
DTEND;TZID=Australia/Sydney:20290120T120000
DTSTAMP:20260423T054552
CREATED:20251112T061214Z
LAST-MODIFIED:20251112T061546Z
UID:10001516-1863597600-1863604800@clg.org.au
SUMMARY:Street Evangelism
DESCRIPTION:Join us on our monthly Street Evangelism at Blacktown Main Street. Help us give away gospel tracts to passersby\, pray for people and give away groceries and used clothing at Blacktown Main Street.\n\nMany hands make the load lighter. Romans 10:15 says that the feet of those who bring good news are beautiful.
URL:https://clg.org.au/event/street-evangelism-2-3-2-2/2029-01-20/
LOCATION:Blacktown Main Street\, Main St\, Blacktown\, 2148\, Australia
ATTACH;FMTTYPE=image/jpeg:https://clg.org.au/wp-content/uploads/2024/08/E4F33A88-41E4-4235-B3D6-F4D037F381FB_1_105_c-1-e1725191564135.jpeg
END:VEVENT
BEGIN:VEVENT
DTSTART;TZID=Australia/Sydney:20290217T100000
DTEND;TZID=Australia/Sydney:20290217T120000
DTSTAMP:20260423T054552
CREATED:20251112T061214Z
LAST-MODIFIED:20251112T061546Z
UID:10001517-1866016800-1866024000@clg.org.au
SUMMARY:Street Evangelism
DESCRIPTION:Join us on our monthly Street Evangelism at Blacktown Main Street. Help us give away gospel tracts to passersby\, pray for people and give away groceries and used clothing at Blacktown Main Street.\n\nMany hands make the load lighter. Romans 10:15 says that the feet of those who bring good news are beautiful.
URL:https://clg.org.au/event/street-evangelism-2-3-2-2/2029-02-17/
LOCATION:Blacktown Main Street\, Main St\, Blacktown\, 2148\, Australia
ATTACH;FMTTYPE=image/jpeg:https://clg.org.au/wp-content/uploads/2024/08/E4F33A88-41E4-4235-B3D6-F4D037F381FB_1_105_c-1-e1725191564135.jpeg
END:VEVENT
BEGIN:VEVENT
DTSTART;TZID=Australia/Sydney:20290317T100000
DTEND;TZID=Australia/Sydney:20290317T120000
DTSTAMP:20260423T054552
CREATED:20251112T061214Z
LAST-MODIFIED:20251112T061546Z
UID:10001518-1868436000-1868443200@clg.org.au
SUMMARY:Street Evangelism
DESCRIPTION:Join us on our monthly Street Evangelism at Blacktown Main Street. Help us give away gospel tracts to passersby\, pray for people and give away groceries and used clothing at Blacktown Main Street.\n\nMany hands make the load lighter. Romans 10:15 says that the feet of those who bring good news are beautiful.
URL:https://clg.org.au/event/street-evangelism-2-3-2-2/2029-03-17/
LOCATION:Blacktown Main Street\, Main St\, Blacktown\, 2148\, Australia
ATTACH;FMTTYPE=image/jpeg:https://clg.org.au/wp-content/uploads/2024/08/E4F33A88-41E4-4235-B3D6-F4D037F381FB_1_105_c-1-e1725191564135.jpeg
END:VEVENT
BEGIN:VEVENT
DTSTART;TZID=Australia/Sydney:20290421T100000
DTEND;TZID=Australia/Sydney:20290421T120000
DTSTAMP:20260423T054552
CREATED:20251112T061214Z
LAST-MODIFIED:20251112T061546Z
UID:10001519-1871460000-1871467200@clg.org.au
SUMMARY:Street Evangelism
DESCRIPTION:Join us on our monthly Street Evangelism at Blacktown Main Street. Help us give away gospel tracts to passersby\, pray for people and give away groceries and used clothing at Blacktown Main Street.\n\nMany hands make the load lighter. Romans 10:15 says that the feet of those who bring good news are beautiful.
URL:https://clg.org.au/event/street-evangelism-2-3-2-2/2029-04-21/
LOCATION:Blacktown Main Street\, Main St\, Blacktown\, 2148\, Australia
ATTACH;FMTTYPE=image/jpeg:https://clg.org.au/wp-content/uploads/2024/08/E4F33A88-41E4-4235-B3D6-F4D037F381FB_1_105_c-1-e1725191564135.jpeg
END:VEVENT
BEGIN:VEVENT
DTSTART;TZID=Australia/Sydney:20290519T100000
DTEND;TZID=Australia/Sydney:20290519T120000
DTSTAMP:20260423T054552
CREATED:20251112T061214Z
LAST-MODIFIED:20251112T061546Z
UID:10001520-1873879200-1873886400@clg.org.au
SUMMARY:Street Evangelism
DESCRIPTION:Join us on our monthly Street Evangelism at Blacktown Main Street. Help us give away gospel tracts to passersby\, pray for people and give away groceries and used clothing at Blacktown Main Street.\n\nMany hands make the load lighter. Romans 10:15 says that the feet of those who bring good news are beautiful.
URL:https://clg.org.au/event/street-evangelism-2-3-2-2/2029-05-19/
LOCATION:Blacktown Main Street\, Main St\, Blacktown\, 2148\, Australia
ATTACH;FMTTYPE=image/jpeg:https://clg.org.au/wp-content/uploads/2024/08/E4F33A88-41E4-4235-B3D6-F4D037F381FB_1_105_c-1-e1725191564135.jpeg
END:VEVENT
BEGIN:VEVENT
DTSTART;TZID=Australia/Sydney:20290616T100000
DTEND;TZID=Australia/Sydney:20290616T120000
DTSTAMP:20260423T054552
CREATED:20251112T061214Z
LAST-MODIFIED:20251112T061546Z
UID:10001521-1876298400-1876305600@clg.org.au
SUMMARY:Street Evangelism
DESCRIPTION:Join us on our monthly Street Evangelism at Blacktown Main Street. Help us give away gospel tracts to passersby\, pray for people and give away groceries and used clothing at Blacktown Main Street.\n\nMany hands make the load lighter. Romans 10:15 says that the feet of those who bring good news are beautiful.
URL:https://clg.org.au/event/street-evangelism-2-3-2-2/2029-06-16/
LOCATION:Blacktown Main Street\, Main St\, Blacktown\, 2148\, Australia
ATTACH;FMTTYPE=image/jpeg:https://clg.org.au/wp-content/uploads/2024/08/E4F33A88-41E4-4235-B3D6-F4D037F381FB_1_105_c-1-e1725191564135.jpeg
END:VEVENT
BEGIN:VEVENT
DTSTART;TZID=Australia/Sydney:20290721T100000
DTEND;TZID=Australia/Sydney:20290721T120000
DTSTAMP:20260423T054552
CREATED:20251112T061214Z
LAST-MODIFIED:20251112T061546Z
UID:10001522-1879322400-1879329600@clg.org.au
SUMMARY:Street Evangelism
DESCRIPTION:Join us on our monthly Street Evangelism at Blacktown Main Street. Help us give away gospel tracts to passersby\, pray for people and give away groceries and used clothing at Blacktown Main Street.\n\nMany hands make the load lighter. Romans 10:15 says that the feet of those who bring good news are beautiful.
URL:https://clg.org.au/event/street-evangelism-2-3-2-2/2029-07-21/
LOCATION:Blacktown Main Street\, Main St\, Blacktown\, 2148\, Australia
ATTACH;FMTTYPE=image/jpeg:https://clg.org.au/wp-content/uploads/2024/08/E4F33A88-41E4-4235-B3D6-F4D037F381FB_1_105_c-1-e1725191564135.jpeg
END:VEVENT
BEGIN:VEVENT
DTSTART;TZID=Australia/Sydney:20290818T100000
DTEND;TZID=Australia/Sydney:20290818T120000
DTSTAMP:20260423T054552
CREATED:20251112T061214Z
LAST-MODIFIED:20251112T061546Z
UID:10001523-1881741600-1881748800@clg.org.au
SUMMARY:Street Evangelism
DESCRIPTION:Join us on our monthly Street Evangelism at Blacktown Main Street. Help us give away gospel tracts to passersby\, pray for people and give away groceries and used clothing at Blacktown Main Street.\n\nMany hands make the load lighter. Romans 10:15 says that the feet of those who bring good news are beautiful.
URL:https://clg.org.au/event/street-evangelism-2-3-2-2/2029-08-18/
LOCATION:Blacktown Main Street\, Main St\, Blacktown\, 2148\, Australia
ATTACH;FMTTYPE=image/jpeg:https://clg.org.au/wp-content/uploads/2024/08/E4F33A88-41E4-4235-B3D6-F4D037F381FB_1_105_c-1-e1725191564135.jpeg
END:VEVENT
BEGIN:VEVENT
DTSTART;TZID=Australia/Sydney:20290915T100000
DTEND;TZID=Australia/Sydney:20290915T120000
DTSTAMP:20260423T054552
CREATED:20251112T061214Z
LAST-MODIFIED:20251112T061546Z
UID:10001524-1884160800-1884168000@clg.org.au
SUMMARY:Street Evangelism
DESCRIPTION:Join us on our monthly Street Evangelism at Blacktown Main Street. Help us give away gospel tracts to passersby\, pray for people and give away groceries and used clothing at Blacktown Main Street.\n\nMany hands make the load lighter. Romans 10:15 says that the feet of those who bring good news are beautiful.
URL:https://clg.org.au/event/street-evangelism-2-3-2-2/2029-09-15/
LOCATION:Blacktown Main Street\, Main St\, Blacktown\, 2148\, Australia
ATTACH;FMTTYPE=image/jpeg:https://clg.org.au/wp-content/uploads/2024/08/E4F33A88-41E4-4235-B3D6-F4D037F381FB_1_105_c-1-e1725191564135.jpeg
END:VEVENT
BEGIN:VEVENT
DTSTART;TZID=Australia/Sydney:20291020T100000
DTEND;TZID=Australia/Sydney:20291020T120000
DTSTAMP:20260423T054552
CREATED:20251112T061214Z
LAST-MODIFIED:20251112T061546Z
UID:10001624-1887184800-1887192000@clg.org.au
SUMMARY:Street Evangelism
DESCRIPTION:Join us on our monthly Street Evangelism at Blacktown Main Street. Help us give away gospel tracts to passersby\, pray for people and give away groceries and used clothing at Blacktown Main Street.\n\nMany hands make the load lighter. Romans 10:15 says that the feet of those who bring good news are beautiful.
URL:https://clg.org.au/event/street-evangelism-2-3-2-2/2029-10-20/
LOCATION:Blacktown Main Street\, Main St\, Blacktown\, 2148\, Australia
ATTACH;FMTTYPE=image/jpeg:https://clg.org.au/wp-content/uploads/2024/08/E4F33A88-41E4-4235-B3D6-F4D037F381FB_1_105_c-1-e1725191564135.jpeg
END:VEVENT
BEGIN:VEVENT
DTSTART;TZID=Australia/Sydney:20291117T100000
DTEND;TZID=Australia/Sydney:20291117T120000
DTSTAMP:20260423T054552
CREATED:20251112T061214Z
LAST-MODIFIED:20251112T061546Z
UID:10001625-1889604000-1889611200@clg.org.au
SUMMARY:Street Evangelism
DESCRIPTION:Join us on our monthly Street Evangelism at Blacktown Main Street. Help us give away gospel tracts to passersby\, pray for people and give away groceries and used clothing at Blacktown Main Street.\n\nMany hands make the load lighter. Romans 10:15 says that the feet of those who bring good news are beautiful.
URL:https://clg.org.au/event/street-evangelism-2-3-2-2/2029-11-17/
LOCATION:Blacktown Main Street\, Main St\, Blacktown\, 2148\, Australia
ATTACH;FMTTYPE=image/jpeg:https://clg.org.au/wp-content/uploads/2024/08/E4F33A88-41E4-4235-B3D6-F4D037F381FB_1_105_c-1-e1725191564135.jpeg
END:VEVENT
END:VCALENDAR