BEGIN:VCALENDAR
VERSION:2.0
PRODID:-//Church of the Living God - ECPv6.15.20//NONSGML v1.0//EN
CALSCALE:GREGORIAN
METHOD:PUBLISH
X-ORIGINAL-URL:https://clg.org.au
X-WR-CALDESC:Events for Church of the Living God
REFRESH-INTERVAL;VALUE=DURATION:PT1H
X-Robots-Tag:noindex
X-PUBLISHED-TTL:PT1H
BEGIN:VTIMEZONE
TZID:Australia/Sydney
BEGIN:STANDARD
TZOFFSETFROM:+1100
TZOFFSETTO:+1000
TZNAME:AEST
DTSTART:20230401T160000
END:STANDARD
BEGIN:DAYLIGHT
TZOFFSETFROM:+1000
TZOFFSETTO:+1100
TZNAME:AEDT
DTSTART:20230930T160000
END:DAYLIGHT
BEGIN:STANDARD
TZOFFSETFROM:+1100
TZOFFSETTO:+1000
TZNAME:AEST
DTSTART:20240406T160000
END:STANDARD
BEGIN:DAYLIGHT
TZOFFSETFROM:+1000
TZOFFSETTO:+1100
TZNAME:AEDT
DTSTART:20241005T160000
END:DAYLIGHT
BEGIN:STANDARD
TZOFFSETFROM:+1100
TZOFFSETTO:+1000
TZNAME:AEST
DTSTART:20250405T160000
END:STANDARD
BEGIN:DAYLIGHT
TZOFFSETFROM:+1000
TZOFFSETTO:+1100
TZNAME:AEDT
DTSTART:20251004T160000
END:DAYLIGHT
BEGIN:STANDARD
TZOFFSETFROM:+1100
TZOFFSETTO:+1000
TZNAME:AEST
DTSTART:20260404T160000
END:STANDARD
BEGIN:DAYLIGHT
TZOFFSETFROM:+1000
TZOFFSETTO:+1100
TZNAME:AEDT
DTSTART:20261003T160000
END:DAYLIGHT
BEGIN:STANDARD
TZOFFSETFROM:+1100
TZOFFSETTO:+1000
TZNAME:AEST
DTSTART:20270403T160000
END:STANDARD
BEGIN:DAYLIGHT
TZOFFSETFROM:+1000
TZOFFSETTO:+1100
TZNAME:AEDT
DTSTART:20271002T160000
END:DAYLIGHT
END:VTIMEZONE
BEGIN:VEVENT
DTSTART;TZID=Australia/Sydney:20260208T170000
DTEND;TZID=Australia/Sydney:20260208T203000
DTSTAMP:20260423T100030
CREATED:20260110T074633Z
LAST-MODIFIED:20260110T075311Z
UID:10002978-1770570000-1770582600@clg.org.au
SUMMARY:CLG Anniversary
DESCRIPTION:“Going Deeper in the Word” – 1 Peter 1:23 \nJoin us as we celebrate 28 years of God’s faithfulness and give thanks for all that He has done in and through our church. Through every season\, every challenge\, and every victory\, God has carried us\, and we continue to grow deeper in our faith and in His Word. \nThis year’s theme\, “Going Deeper in the Word\,” is based on 1 Peter 1:23\, reminding us that we have been born again through the living and enduring Word of God. \nIt will be a special evening of worship\, thanksgiving\, and fellowship as we come together as one church family to honour the past and look forward to what God has ahead. \n\n🎫 Tickets\nTickets are limited to 160\, so we encourage you to register early to avoid missing out. \n👉 Register here:\nhttps://www.ticketleap.events/tickets/clgtickets/clg-28th-anniversary \n👨‍👩‍👧‍👦 Who Should Attend?\nEveryone is welcome! Bring your family\, invite a friend\, and come celebrate 28 years of God’s goodness with us. We look forward to sharing this meaningful and joyful night together.
URL:https://clg.org.au/event/anniv/
LOCATION:Glenwood Community Hub\, 72 Glenwood Park Dr\, Glenwood\, NSW\, 2768\, Australia
ATTACH;FMTTYPE=image/jpeg:https://clg.org.au/wp-content/uploads/2026/01/inbound961171593235516022-scaled-e1768031578489.jpg
END:VEVENT
BEGIN:VEVENT
DTSTART;TZID=Australia/Sydney:20251214T170000
DTEND;TZID=Australia/Sydney:20251214T203000
DTSTAMP:20260423T100030
CREATED:20250301T130639Z
LAST-MODIFIED:20251201T104142Z
UID:10001621-1765731600-1765744200@clg.org.au
SUMMARY:CLG Christmas Party
DESCRIPTION:On 14 December\, we’re gathering at the Glenwood Community Hub (Marigold Hall) for our much-anticipated Church Christmas Party! Come expecting an evening filled with food\, fellowship\, worship\, and festive joy as we celebrate the true reason for the season — Jesus. \nThis year’s theme calls us not only to celebrate\, but to respond to Christ’s invitation to follow Him. It’s a night designed to be joyful\, meaningful\, and centred on the heart of Christmas. \nAdmission is free\, but seating is limited. At this stage\, all tickets have been allocated. If you’d like to join the waitlist\, please contact Ps Cathy Tripney.
URL:https://clg.org.au/event/rsvp-to-jesus/
LOCATION:Glenwood Community Hub\, 72 Glenwood Park Dr\, Glenwood\, NSW\, 2768\, Australia
ATTACH;FMTTYPE=image/jpeg:https://clg.org.au/wp-content/uploads/2024/10/427887315_778793857608387_989849449737607822_n.jpg
END:VEVENT
BEGIN:VEVENT
DTSTART;TZID=Australia/Sydney:20250209T173000
DTEND;TZID=Australia/Sydney:20250209T203000
DTSTAMP:20260423T100030
CREATED:20250111T161648Z
LAST-MODIFIED:20250117T222623Z
UID:10001595-1739122200-1739133000@clg.org.au
SUMMARY:Empowered: CLG 27th Anniversary
DESCRIPTION:Celebrate 27 years of God’s faithfulness with us! Inspired by Acts 1:8\, this will be a powerful night of worship\, testimonies\, and fellowship. \n⚠️ Registration Closed\nAttendance is capped at 160 people due to venue limitations\, and all tickets have been secured. Thank you for your incredible response! \n🎟 No More Tickets Available \n👗 Dress Code: 80s Retro & Retro Chic \n80s Retro: \n\nTops: Oversized graphic T-shirts\, neon windbreakers\, or bold sweatshirts.\nBottoms: High-waisted jeans\, denim/tutu skirts (with tights)\, or loose-fit trousers.\nFootwear: High-top sneakers or Converse.\nAccessories: Chunky jewelry\, scrunchies\, fanny packs\, and oversized sunglasses.\n\n80s Retro Chic: \n\nTops: Structured blazers\, satin shirts\, or fitted sweaters.\nBottoms: High-waisted trousers\, pleated skirts\, or tailored pants.\nFootwear: Pumps\, loafers\, or ankle boots.\nAccessories: Pearls\, layered necklaces\, ties\, and leather belts.\n\nGuidelines (For Everyone): \n\nNo leotards\, shorts\, or revealing clothing.\nKeep outfits modest and stylish while embracing bold 80s flair!\n\nDon’t miss this special milestone—RSVP today!
URL:https://clg.org.au/event/empowered/
LOCATION:Glenwood Community Hub\, 72 Glenwood Park Dr\, Glenwood\, NSW\, 2768\, Australia
ATTACH;FMTTYPE=image/jpeg:https://clg.org.au/wp-content/uploads/2025/01/Colorful-Fun-Surprise-Party-Birthday-Invitation.jpg
END:VEVENT
BEGIN:VEVENT
DTSTART;TZID=Australia/Sydney:20241215T173000
DTEND;TZID=Australia/Sydney:20241215T210000
DTSTAMP:20260423T100030
CREATED:20241020T105604Z
LAST-MODIFIED:20241214T035015Z
UID:10001592-1734283800-1734296400@clg.org.au
SUMMARY:CLG Christmas Party
DESCRIPTION:We’re so excited to celebrate with you at this year’s Church Christmas Party! 🎉 Join us for an evening filled with cultural performances\, delicious food\, exciting games\, and meaningful fellowship. \n  \n \n  \nWhat to Expect: \n\nBest Dressed Awards: Wear your traditional attire for a chance to win!\nGreat Company: Celebrate with your church family.\n\nWe can’t wait to celebrate this joyful season with you! 🎄
URL:https://clg.org.au/event/clg-christmas-party/
LOCATION:Glenwood Community Hub\, 72 Glenwood Park Dr\, Glenwood\, NSW\, 2768\, Australia
ATTACH;FMTTYPE=image/jpeg:https://clg.org.au/wp-content/uploads/2024/10/426473429_778788454275594_5923027820332746983_n.jpg
END:VEVENT
END:VCALENDAR