BEGIN:VCALENDAR
VERSION:2.0
PRODID:-//Church of the Living God - ECPv6.15.20//NONSGML v1.0//EN
CALSCALE:GREGORIAN
METHOD:PUBLISH
X-ORIGINAL-URL:https://clg.org.au
X-WR-CALDESC:Events for Church of the Living God
REFRESH-INTERVAL;VALUE=DURATION:PT1H
X-Robots-Tag:noindex
X-PUBLISHED-TTL:PT1H
BEGIN:VTIMEZONE
TZID:Australia/Sydney
BEGIN:STANDARD
TZOFFSETFROM:+1100
TZOFFSETTO:+1000
TZNAME:AEST
DTSTART:20230401T160000
END:STANDARD
BEGIN:DAYLIGHT
TZOFFSETFROM:+1000
TZOFFSETTO:+1100
TZNAME:AEDT
DTSTART:20230930T160000
END:DAYLIGHT
BEGIN:STANDARD
TZOFFSETFROM:+1100
TZOFFSETTO:+1000
TZNAME:AEST
DTSTART:20240406T160000
END:STANDARD
BEGIN:DAYLIGHT
TZOFFSETFROM:+1000
TZOFFSETTO:+1100
TZNAME:AEDT
DTSTART:20241005T160000
END:DAYLIGHT
BEGIN:STANDARD
TZOFFSETFROM:+1100
TZOFFSETTO:+1000
TZNAME:AEST
DTSTART:20250405T160000
END:STANDARD
BEGIN:DAYLIGHT
TZOFFSETFROM:+1000
TZOFFSETTO:+1100
TZNAME:AEDT
DTSTART:20251004T160000
END:DAYLIGHT
BEGIN:STANDARD
TZOFFSETFROM:+1100
TZOFFSETTO:+1000
TZNAME:AEST
DTSTART:20260404T160000
END:STANDARD
BEGIN:DAYLIGHT
TZOFFSETFROM:+1000
TZOFFSETTO:+1100
TZNAME:AEDT
DTSTART:20261003T160000
END:DAYLIGHT
END:VTIMEZONE
BEGIN:VEVENT
DTSTART;TZID=Australia/Sydney:20251214T093000
DTEND;TZID=Australia/Sydney:20251214T113000
DTSTAMP:20260423T115319
CREATED:20251122T122855Z
LAST-MODIFIED:20251122T122856Z
UID:10001267-1765704600-1765711800@clg.org.au
SUMMARY:Sunday Service (Online Only)
DESCRIPTION:On Sunday\, 14 December\, our church building will be closed as we prepare for our Christmas Party. Instead\, we invite you to join us online for a special 9:30 AM Facebook Livestream\, where Bro. Ife will be sharing the Word. \nLet’s continue to worship together—from wherever you are.
URL:https://clg.org.au/event/sunday-service-2-3/
LOCATION:Online
ATTACH;FMTTYPE=image/jpeg:https://clg.org.au/wp-content/uploads/2024/08/0502B894-0EF1-447E-87A5-1C03428556C4_1_102_a-1-e1725190977991.jpeg
END:VEVENT
BEGIN:VEVENT
DTSTART;TZID=Australia/Sydney:20241215T093000
DTEND;TZID=Australia/Sydney:20241215T113000
DTSTAMP:20260423T115319
CREATED:20241026T122721Z
LAST-MODIFIED:20241026T123428Z
UID:10001215-1734255000-1734262200@clg.org.au
SUMMARY:Sunday Service (Online Only)
DESCRIPTION:On December 15\, our church building will be closed as we prepare for the Church Christmas Party in Sydney at 5:30 PM. Instead\, we invite you to join our online service via Facebook Livestream and worship with us from wherever you are. \nAt CLG\, we are dedicated to gathering in worship\, whether in person or online. Experience the joy of community and Christ-centered worship with us. \nWe also celebrate communion on the last Sunday of every month—don’t miss the chance to join in. \nFor more details\, visit clg.org.au/service-information
URL:https://clg.org.au/event/sunday-service-dec-15-online/
LOCATION:Online
ATTACH;FMTTYPE=image/jpeg:https://clg.org.au/wp-content/uploads/2024/08/0502B894-0EF1-447E-87A5-1C03428556C4_1_102_a-1-e1725190977991.jpeg
END:VEVENT
END:VCALENDAR