BEGIN:VCALENDAR
VERSION:2.0
PRODID:-//Church of the Living God - ECPv6.15.20//NONSGML v1.0//EN
CALSCALE:GREGORIAN
METHOD:PUBLISH
X-ORIGINAL-URL:https://clg.org.au
X-WR-CALDESC:Events for Church of the Living God
REFRESH-INTERVAL;VALUE=DURATION:PT1H
X-Robots-Tag:noindex
X-PUBLISHED-TTL:PT1H
BEGIN:VTIMEZONE
TZID:Australia/Sydney
BEGIN:STANDARD
TZOFFSETFROM:+1100
TZOFFSETTO:+1000
TZNAME:AEST
DTSTART:20230401T160000
END:STANDARD
BEGIN:DAYLIGHT
TZOFFSETFROM:+1000
TZOFFSETTO:+1100
TZNAME:AEDT
DTSTART:20230930T160000
END:DAYLIGHT
BEGIN:STANDARD
TZOFFSETFROM:+1100
TZOFFSETTO:+1000
TZNAME:AEST
DTSTART:20240406T160000
END:STANDARD
BEGIN:DAYLIGHT
TZOFFSETFROM:+1000
TZOFFSETTO:+1100
TZNAME:AEDT
DTSTART:20241005T160000
END:DAYLIGHT
BEGIN:STANDARD
TZOFFSETFROM:+1100
TZOFFSETTO:+1000
TZNAME:AEST
DTSTART:20250405T160000
END:STANDARD
BEGIN:DAYLIGHT
TZOFFSETFROM:+1000
TZOFFSETTO:+1100
TZNAME:AEDT
DTSTART:20251004T160000
END:DAYLIGHT
END:VTIMEZONE
BEGIN:VEVENT
DTSTART;TZID=Australia/Sydney:20240914T190000
DTEND;TZID=Australia/Sydney:20240914T213000
DTSTAMP:20260423T235731
CREATED:20240901T020316Z
LAST-MODIFIED:20240911T115617Z
UID:10000511-1726340400-1726349400@clg.org.au
SUMMARY:Men's Breakfast
DESCRIPTION:Calling our CLG Men! We’ve got a Men’s Breakfast coming up on Saturday\, September 14th at Prospect Park. Join us from 9:00 AM to 11:30 AM for some good food and great company. See you there!
URL:https://clg.org.au/event/mens-breakfast/
LOCATION:Prospect Park\, Prospect Park\, Aldgate St\, Prospect\, Blacktown\, NSW\, 2148\, Australia
ATTACH;FMTTYPE=image/jpeg:https://clg.org.au/wp-content/uploads/2024/09/1.jpg
END:VEVENT
END:VCALENDAR