BEGIN:VCALENDAR
VERSION:2.0
PRODID:-//Church of the Living God - ECPv6.15.20//NONSGML v1.0//EN
CALSCALE:GREGORIAN
METHOD:PUBLISH
X-WR-CALNAME:Church of the Living God
X-ORIGINAL-URL:https://clg.org.au
X-WR-CALDESC:Events for Church of the Living God
REFRESH-INTERVAL;VALUE=DURATION:PT1H
X-Robots-Tag:noindex
X-PUBLISHED-TTL:PT1H
BEGIN:VTIMEZONE
TZID:Australia/Sydney
BEGIN:STANDARD
TZOFFSETFROM:+1100
TZOFFSETTO:+1000
TZNAME:AEST
DTSTART:20240406T160000
END:STANDARD
BEGIN:DAYLIGHT
TZOFFSETFROM:+1000
TZOFFSETTO:+1100
TZNAME:AEDT
DTSTART:20241005T160000
END:DAYLIGHT
BEGIN:STANDARD
TZOFFSETFROM:+1100
TZOFFSETTO:+1000
TZNAME:AEST
DTSTART:20250405T160000
END:STANDARD
BEGIN:DAYLIGHT
TZOFFSETFROM:+1000
TZOFFSETTO:+1100
TZNAME:AEDT
DTSTART:20251004T160000
END:DAYLIGHT
BEGIN:STANDARD
TZOFFSETFROM:+1100
TZOFFSETTO:+1000
TZNAME:AEST
DTSTART:20260404T160000
END:STANDARD
BEGIN:DAYLIGHT
TZOFFSETFROM:+1000
TZOFFSETTO:+1100
TZNAME:AEDT
DTSTART:20261003T160000
END:DAYLIGHT
END:VTIMEZONE
BEGIN:VEVENT
DTSTART;TZID=Australia/Sydney:20250927T100000
DTEND;TZID=Australia/Sydney:20250927T140000
DTSTAMP:20260423T132513
CREATED:20250301T130300Z
LAST-MODIFIED:20250917T115853Z
UID:10001616-1758967200-1758981600@clg.org.au
SUMMARY:Sports Day
DESCRIPTION:Get ready\, because CLG Sports Day is here! The Men of the Living God are hosting a day filled with fun\, fellowship\, and friendly competition. \nThis event is for everyone — all ages\, all ministries\, all skill levels. Whether you’re out on the court\, cheering from the sidelines\, or simply enjoying the community\, there’s a place for you. \n🍽️ Don’t forget: It’s potluck! Bring a dish to share so we can enjoy lunch together in between the games. \nExpect laughter\, energy\, and celebration as we come together as one family. \n👉 For more details\, speak with Bro. Rey Manaloto. \nWe can’t wait to see you there!
URL:https://clg.org.au/event/sports-day/
LOCATION:St Clair Leisure Centre\, 6 Botany Ln\, St Clair\, NSW\, 2759\, Australia
ATTACH;FMTTYPE=image/jpeg:https://clg.org.au/wp-content/uploads/2025/03/CLG-Events.jpg
END:VEVENT
END:VCALENDAR