BEGIN:VCALENDAR
VERSION:2.0
PRODID:-//Church of the Living God - ECPv6.15.20//NONSGML v1.0//EN
CALSCALE:GREGORIAN
METHOD:PUBLISH
X-ORIGINAL-URL:https://clg.org.au
X-WR-CALDESC:Events for Church of the Living God
REFRESH-INTERVAL;VALUE=DURATION:PT1H
X-Robots-Tag:noindex
X-PUBLISHED-TTL:PT1H
BEGIN:VTIMEZONE
TZID:Australia/Sydney
BEGIN:STANDARD
TZOFFSETFROM:+1100
TZOFFSETTO:+1000
TZNAME:AEST
DTSTART:20230401T160000
END:STANDARD
BEGIN:DAYLIGHT
TZOFFSETFROM:+1000
TZOFFSETTO:+1100
TZNAME:AEDT
DTSTART:20230930T160000
END:DAYLIGHT
BEGIN:STANDARD
TZOFFSETFROM:+1100
TZOFFSETTO:+1000
TZNAME:AEST
DTSTART:20240406T160000
END:STANDARD
BEGIN:DAYLIGHT
TZOFFSETFROM:+1000
TZOFFSETTO:+1100
TZNAME:AEDT
DTSTART:20241005T160000
END:DAYLIGHT
BEGIN:STANDARD
TZOFFSETFROM:+1100
TZOFFSETTO:+1000
TZNAME:AEST
DTSTART:20250405T160000
END:STANDARD
BEGIN:DAYLIGHT
TZOFFSETFROM:+1000
TZOFFSETTO:+1100
TZNAME:AEDT
DTSTART:20251004T160000
END:DAYLIGHT
END:VTIMEZONE
BEGIN:VEVENT
DTSTART;TZID=Australia/Sydney:20241007T090000
DTEND;TZID=Australia/Sydney:20241007T170000
DTSTAMP:20260423T121128
CREATED:20240901T021617Z
LAST-MODIFIED:20241001T104921Z
UID:10000514-1728291600-1728320400@clg.org.au
SUMMARY:Water Baptism
DESCRIPTION:Take the next step in your faith journey with Water Baptism on Saturday\, 7th October at 9 AM at Wombarra Rock Pool. This is a meaningful opportunity to publicly declare your commitment to Christ and embrace your new life in Him. \nAfter the baptism\, we’ll celebrate with a time of fellowship\, swimming\, and a picnic. We encourage you to bring a plate to share for the picnic. \nThings to Bring: \n\nSwimming wear\nSunblock\nUmbrella\nHat\nFolding Chair\nSunglasses\nTowel\nShampoo/Soap\nDrinking Water\nA Plate to Share\n\nFor those interested in being baptised or seeking more information\, please contact Pastor Imelda. \nFor venue details\, feel free to reach out to Bro Rey and Sis Tess Manaloto. \nWe look forward to celebrating this special day with you! \n 
URL:https://clg.org.au/event/water-baptism/
LOCATION:Wombarra Rock Pool\, Reef Ave\, Wombarra\, NSW\, NSW 2515\, Australia
ATTACH;FMTTYPE=image/jpeg:https://clg.org.au/wp-content/uploads/2024/09/426595123_778784127609360_8713449303494297099_n-e1725193088203.jpg
END:VEVENT
END:VCALENDAR